BEGIN:VCALENDAR
VERSION:2.0
PRODID:-//Le Salon Beige - ECPv6.15.18//NONSGML v1.0//EN
CALSCALE:GREGORIAN
METHOD:PUBLISH
X-WR-CALNAME:Le Salon Beige
X-ORIGINAL-URL:https://lesalonbeige.fr
X-WR-CALDESC:Évènements pour Le Salon Beige
REFRESH-INTERVAL;VALUE=DURATION:PT1H
X-Robots-Tag:noindex
X-PUBLISHED-TTL:PT1H
BEGIN:VTIMEZONE
TZID:Europe/Paris
BEGIN:DAYLIGHT
TZOFFSETFROM:+0100
TZOFFSETTO:+0200
TZNAME:CEST
DTSTART:20250330T010000
END:DAYLIGHT
BEGIN:STANDARD
TZOFFSETFROM:+0200
TZOFFSETTO:+0100
TZNAME:CET
DTSTART:20251026T010000
END:STANDARD
BEGIN:DAYLIGHT
TZOFFSETFROM:+0100
TZOFFSETTO:+0200
TZNAME:CEST
DTSTART:20260329T010000
END:DAYLIGHT
BEGIN:STANDARD
TZOFFSETFROM:+0200
TZOFFSETTO:+0100
TZNAME:CET
DTSTART:20261025T010000
END:STANDARD
BEGIN:DAYLIGHT
TZOFFSETFROM:+0100
TZOFFSETTO:+0200
TZNAME:CEST
DTSTART:20270328T010000
END:DAYLIGHT
BEGIN:STANDARD
TZOFFSETFROM:+0200
TZOFFSETTO:+0100
TZNAME:CET
DTSTART:20271031T010000
END:STANDARD
END:VTIMEZONE
BEGIN:VEVENT
DTSTART;TZID=Europe/Paris:20260420T080000
DTEND;TZID=Europe/Paris:20260424T170000
DTSTAMP:20260424T121531
CREATED:20260219T195753Z
LAST-MODIFIED:20260219T195753Z
UID:10004495-1776672000-1777050000@lesalonbeige.fr
SUMMARY:20-24 avril Retraite de Saint Ignace pour jeunes en région parisienne
DESCRIPTION:Retraite en silence de 5 jours\, selon la méthode des exercices spirituels de Saint Ignace de Loyola :\n– du lundi 20 (10h00) au vendredi 24 avril (17h00) à Poissy (78) pour jeunes (17 – 35 ans)\,\nprêchée par les abbés Gonzague Babinet et Gérald de Servigny.\nRenseignements et inscription\, courriel : retraite.st.ignace (at) wanadoo.fr
URL:https://lesalonbeige.fr/evenement/20-24-avril-retraite-de-saint-ignace-pour-jeunes-en-region-parisienne/
LOCATION:Foyer de Charité\, Poissy (78)\, Ile de france\, France
CATEGORIES:78 - Yvelines
ATTACH;FMTTYPE=image/jpeg:https://lesalonbeige.fr/wp-content/uploads/2026/02/cloitre-poissy-part-dieu-1024-1024.jpg
GEO:48.929584;2.046982
END:VEVENT
BEGIN:VEVENT
DTSTART;TZID=Europe/Paris:20260420T180000
DTEND;TZID=Europe/Paris:20260425T180000
DTSTAMP:20260424T121531
CREATED:20260228T152813Z
LAST-MODIFIED:20260228T153820Z
UID:10004508-1776708000-1777140000@lesalonbeige.fr
SUMMARY:20-25 avril: retraite pour hommes en Bretagne
DESCRIPTION:Chez les Coopératrices paroissiales du Christ-Roi: Maison Notre Dame de Fatima à Bieuzy-Lanvaux\, 56330 (Pluvigner). \nPlus de renseignements ici.
URL:https://lesalonbeige.fr/evenement/20-25-avril-retraite-pour-hommes-en-bretagne/
CATEGORIES:56 - Morbihan
END:VEVENT
BEGIN:VEVENT
DTSTART;TZID=Europe/Paris:20260424T080000
DTEND;TZID=Europe/Paris:20260425T170000
DTSTAMP:20260424T121531
CREATED:20260420T190215Z
LAST-MODIFIED:20260420T190215Z
UID:10004567-1777017600-1777136400@lesalonbeige.fr
SUMMARY:23-24 avril : Vente privée les3ma.com
DESCRIPTION:Le site www.les3ma.com vous proposent une vente privée au coeur de l’Allier jeudi 23 et vendredi 24 avril a 15 mn de Vichy. Statues\, peintures\, objets religieux\, bijoux\, chapeaux de mariage \, nappes\, abats-jours \, baladeuses touts vos envies sont là! \nRenseignements et inscriptions au 06 69 41 26 83
URL:https://lesalonbeige.fr/evenement/23-24-avril-vente-privee-les3ma-com/
CATEGORIES:03 - Allier
ATTACH;FMTTYPE=image/jpeg:https://lesalonbeige.fr/wp-content/uploads/2026/04/20260311-155024-3.jpg
END:VEVENT
BEGIN:VEVENT
DTSTART;TZID=Europe/Paris:20260424T180000
DTEND;TZID=Europe/Paris:20260426T170000
DTSTAMP:20260424T121531
CREATED:20250919T121539Z
LAST-MODIFIED:20250919T121539Z
UID:10004334-1777053600-1777222800@lesalonbeige.fr
SUMMARY:24-26 avril : WE Femmes au service de la Vie "Donner la vie\, accueillir la fragilité"
DESCRIPTION:Les WE “Femmes au service de la vie” s’adressent aux étudiantes et jeunes professionnelles (18-35 ans)\, pour réfléchir sur des thèmes leur permettant de mûrir leur engagement de la société. Ils sont co-organisés par 4 congrégations au service de la vie\, qui avaient à coeur de collaborer auprès de jeunes\, afin de leur partager leur charisme et les aider à réfléchir sur les questions relatives à la vie\, à la vocation de la femme\, la maternité\, la fécondité\, l’hospitalité\, la vulnérabilité\, le service\, etc. \nLe thème de cette année est : “Donner la vie”. 4 WE sont prévus au cours de l’année pour le décliner (indépendants les uns des autres\, on peut participer au(x) WE que l’on souhaite):\n(Arrivée dès le vendredi soir) \nLes 3 premiers WE ont eu lieu:\n– En novembre chez les Augustines Hospitalières de la Miséricorde de Jésus\, à Malestroit (56)\, sur le thème “Prendre soin dans toutes les dimensions”\n– En décembre chez les Servantes des Pauvres à Angers (49)\, sur le thème “Renaître quand on est vieux (Jn 3\, 4)? ”\n– En février chez les Petites Sœurs des Pauvres à Paris (75)\, sur le thème “Croyons-nous à la résurrection des morts?” \nLe dernier WE a lieu:\n– Les 25/26 avril 2026 chez les Petites Sœurs des Maternités Catholiques\, à Bourgoin-Jallieu (38)\, sur le thème “Donner la vie\, accueillir la fragilité”
URL:https://lesalonbeige.fr/evenement/24-26-avril-we-femmes-au-service-de-la-vie-donner-la-vie-accueillir-la-fragilite/
LOCATION:Bourgouin-Jailleu (38)
CATEGORIES:38 - Isère
ATTACH;FMTTYPE=image/jpeg:https://lesalonbeige.fr/wp-content/uploads/2025/09/fsv-2025-26-3.jpg
ORGANIZER;CN="Femmes au service de la vie":MAILTO:femmesauservicedelavie@gmail.com
END:VEVENT
BEGIN:VEVENT
DTSTART;TZID=Europe/Paris:20260424T180000
DTEND;TZID=Europe/Paris:20260426T170000
DTSTAMP:20260424T121531
CREATED:20260320T111115Z
LAST-MODIFIED:20260320T111115Z
UID:10004527-1777053600-1777222800@lesalonbeige.fr
SUMMARY:WE retraite jeunes couples à Paris - 24/26 avril
DESCRIPTION:se ressourcer affectivement et spirituellement.trouver des clés concrètes et bienfaisantes par :\ndes enseignements\ndes temps de prière\ndes échanges \n24-26 avril 2026\nAuBon Conseil\,\n6 rue Albert de Lapparent\, 75007 PARIS
URL:https://lesalonbeige.fr/evenement/we-retraite-jeunes-couples-a-paris-24-26-avril/
LOCATION:Bon Conseil\, 6\, Rue Albert de Lapparent\, Paris\, 75007\, France
CATEGORIES:75 - Paris
ATTACH;FMTTYPE=image/jpeg:https://lesalonbeige.fr/wp-content/uploads/2026/03/post-20-3e-we-jeunes-couples.jpg
GEO:48.8486547;2.3083339
X-APPLE-STRUCTURED-LOCATION;VALUE=URI;X-ADDRESS=Bon Conseil 6 Rue Albert de Lapparent Paris 75007 France;X-APPLE-RADIUS=500;X-TITLE=6\, Rue Albert de Lapparent:geo:2.3083339,48.8486547
END:VEVENT
BEGIN:VEVENT
DTSTART;TZID=Europe/Paris:20260424T203000
DTEND;TZID=Europe/Paris:20260424T220000
DTSTAMP:20260424T121531
CREATED:20260413T172512Z
LAST-MODIFIED:20260413T172512Z
UID:10004558-1777062600-1777068000@lesalonbeige.fr
SUMMARY:24 avril: conférence sur le spiritisme à Saumur
DESCRIPTION:
URL:https://lesalonbeige.fr/evenement/24-avril-conference-sur-le-spiritisme-a-saumur/
CATEGORIES:49 - Maine-et-Loire
ATTACH;FMTTYPE=image/jpeg:https://lesalonbeige.fr/wp-content/uploads/2026/04/img-3367-1.jpg
END:VEVENT
BEGIN:VEVENT
DTSTART;TZID=Europe/Paris:20260424T203000
DTEND;TZID=Europe/Paris:20260424T223000
DTSTAMP:20260424T121531
CREATED:20260413T195130Z
LAST-MODIFIED:20260413T195130Z
UID:10004557-1777062600-1777069800@lesalonbeige.fr
SUMMARY:24 avril - Conférence “Le spiritisme\, une pratique dangereuse ?”
DESCRIPTION:Organisée par la paroisse Saint Charles de Foucauld de Saumur (49)\, conférence du Père Élie-Joseph Ayroulet\, prieur de la branche monastique de la Famille de Saint Joseph\, professeur de théologie à l’université catholique de Lyon\, sur le spiritisme : “Esprits\, êtes-vous là ? Le spiritisme\, une pratique dangereuse ? Est-ce que cela fonctionne vraiment ? Comment réagir en tant que chrétien ?”. \nLieu : salle Tibériade 20\, rue du Temple à Saumur. Échanges possibles avec l’orateur. Stand de livres appropriés\, proposés par des moniales et familiers de la Famille de Saint Joseph.
URL:https://lesalonbeige.fr/evenement/24-avril-conference-le-spiritisme-une-pratique-dangereuse/
LOCATION:Salle Tibériade\, 20\, rue du Temple\, Saumur\, 49400\, France
CATEGORIES:49 - Maine-et-Loire
ATTACH;FMTTYPE=image/jpeg:https://lesalonbeige.fr/wp-content/uploads/2026/04/img-3367.jpg
GEO:47.2578646;-0.0771228
X-APPLE-STRUCTURED-LOCATION;VALUE=URI;X-ADDRESS=Salle Tibériade 20 rue du Temple Saumur 49400 France;X-APPLE-RADIUS=500;X-TITLE=20\, rue du Temple:geo:-0.0771228,47.2578646
END:VEVENT
END:VCALENDAR